BEGIN:VCALENDAR
VERSION:2.0
PRODID:-//Lake Rabun Association - ECPv6.15.20//NONSGML v1.0//EN
CALSCALE:GREGORIAN
METHOD:PUBLISH
X-ORIGINAL-URL:https://lakerabun.org
X-WR-CALDESC:Events for Lake Rabun Association
REFRESH-INTERVAL;VALUE=DURATION:PT1H
X-Robots-Tag:noindex
X-PUBLISHED-TTL:PT1H
BEGIN:VTIMEZONE
TZID:UTC
BEGIN:STANDARD
TZOFFSETFROM:+0000
TZOFFSETTO:+0000
TZNAME:UTC
DTSTART:20240101T000000
END:STANDARD
END:VTIMEZONE
BEGIN:VEVENT
DTSTART;TZID=UTC:20250705T073000
DTEND;TZID=UTC:20250705T100000
DTSTAMP:20260425T005837
CREATED:20250417T190247Z
LAST-MODIFIED:20250604T164725Z
UID:22521-1751700600-1751709600@lakerabun.org
SUMMARY:2025 Rabun Ramble
DESCRIPTION:Are you ready to Ramble?  Please join us on July 5th\, at 7:30AM for the 19th Annual Rabun Ramble Road Race! Our 5K and 10K courses are perfect for runners and walkers alike. Registration is open at ACTIVE.com. Registration costs $35 from 4/1 until 6/22\, then $45 from 6/23 through 7/4\, and $50 cash or Venmo on race day. Please register early as we will have very limited registration on race day. Early number pick-up will be available on Friday\, July 4th\, from 1:00-5:00PM at the Pavilion. \nRace registrations are not deductible as charitable contributions for federal or state income tax purposes. \nThe race starts and ends at the Lake Rabun Pavilion. Lake Rabun Road closes at 7:00AM from Piney Point to Tame Turkey and reopens after the race.  Parking is limited\, so please arrive early and carpool or boatpool. \nNet proceeds support the good work of the Lake Rabun Foundation\, a fund of the North Georgia Community Foundation\, as well as donations to Rabun County Search and Rescue and the Lakemont Wiley Fire Department Association. \nClick here to ->  Register for the Ramble \nIf you would like to volunteer\, we’d love to have you!  Please contact Mary Shannon Scott at rabunramble@gmail.com or go to www.rabunramble.com for more information.  Ramble on! \n \n\n  \n 
URL:https://lakerabun.org/event/2025-rabun-ramble/
LOCATION:The Pavilion at Lake Rabun\, 1757 Lake Rabun Rd\, Lakemont\, GA\, 30552\, United States
CATEGORIES:Open to Public
ATTACH;FMTTYPE=image/jpeg:https://lakerabun.org/wp-content/uploads/2025/04/IhateRunningPhoto-e1744916798979.jpg
ORGANIZER;CN="LRA":MAILTO:admin@lakerabun.org
END:VEVENT
END:VCALENDAR